BEGIN:VCALENDAR
VERSION:2.0
PRODID:-//eventon.com NONSGML v1.0//EN
CALSCALE:GREGORIAN
METHOD:PUBLISH
BEGIN:VEVENT
UID:69e7ba38e07d7
DTSTAMP:20260421T175608Z
DTSTART:20251003T220000Z
DTEND:20251004T133000Z
LOCATION:595 Lagimodiere Blvd 595 Lagimodiere Blvd\,  Winnipeg MB
SUMMARY:Men’s Conference 2025
DESCRIPTION:Friday\,  October 3 &#8211; Doors open 5pmSaturday\,  October 4
  &#8211; Doors open 8:30am TicketMen&#8217;s Conference 2025&#36;65.00 Out 
 of stock SKU: MCRLR2025 Category: Ticket Description Description Men&#8217;
 s Conference 2025 595 Lagimodiere Blvd Winnipeg\,  MB Friday\,  October 3 &
 #8211; Doors open 5pm Saturday\,  October 4 &#8211; Doors open 8:30am *Regi
 stration closes Sunday[..]\nhttps://springschurch.com/events/act-like-men-m
 ens-conference-2025/
URL:https://springschurch.com/events/act-like-men-mens-conference-2025/
END:VEVENT
END:VCALENDAR